BEGIN:VCALENDAR
VERSION:2.0
PRODID:-//Team Holzer//TH Site Events//DE
CALSCALE:GREGORIAN
METHOD:PUBLISH
BEGIN:VEVENT
UID:xmas-20261213@www.thomasholzer.de
DTSTAMP:20260424T162034Z
DTSTART:20261213T090000Z
DTEND:20261213T130000Z
SUMMARY:Weihnachtsfest
LOCATION:Weissenfelder Restaurant
URL:https://www.thomasholzer.de/
END:VEVENT
END:VCALENDAR
